{"text_format":"1","workbook":"xlsx","n_sheets":3,"sheets":["Ark1","Ark2","Ark3"],"not_rendered":{"charts":0,"images":0,"macros":0,"external_links":1,"defined_names":0,"comments":0,"pivot_tables":0},"unopened":[],"bounds":{"document_bytes":16777216,"sheet_cells":100000,"rows_first":2000,"rows_last":500,"rows_between":2000,"halvings":0,"cell_chars":16384,"cell_head_chars":4096},"cells_cut":0,"cells_raw":0,"read":"whole","date_system":"1900"}

{"sheet":"Ark1","index":0,"n_rows":41,"n_cols":6,"rows_kept":41,"cut":false,"hidden":false,"merged":[]}
["Poengberegning"]
[]
["Navn"]
["Poeng",{"$f":"IF(OR(COUNTIF(E8:E40,\"FEIL\")>0,COUNTIF(F8:F40,\"FEIL\")>0),\"FEIL\",SUM(F8:F40)*10/SUM(E8:E40))","v":{"$error":"#DIV/0!"}}]
[]
[]
["Karakter","Vekt","Bokstav","Verdi","Vekt","Produkt"]
[null,null,{"$f":"IF(OR(ISBLANK(A8),ISBLANK(B8)),\"\",IF(OR(A8=\"A\",A8=\"B\",A8=\"C\",A8=\"D\",A8=\"E\",A8=\"S\",A8=\"Mtf\",A8=\"Tf\",A8=\"Ng\"),UPPER(A8),IF(AND(A8>=1,A8<=4),VLOOKUP(A8+0.1,[1]grunnlag!$A$15:$B$45,2),\"FEIL\")))","v":""},{"$f":"IF(OR(ISBLANK(A8),ISBLANK(B8)),\"\",IF(C8=\"FEIL\",\"FEIL\",VLOOKUP(C8,[1]grunnlag!$A$4:$B$12,2)))","v":""},{"$f":"IF(OR(ISBLANK(A8),ISBLANK(B8)),\"\",IF(NOT(ISNUMBER(B8)),\"FEIL\",B8))","v":""},{"$f":"IF(OR(ISBLANK(A8),ISBLANK(B8)),\"\",IF(OR(C8=\"FEIL\",E8=\"FEIL\"),\"FEIL\",D8*E8))","v":""}]
[null,null,{"$f":"IF(OR(ISBLANK(A9),ISBLANK(B9)),\"\",IF(OR(A9=\"A\",A9=\"B\",A9=\"C\",A9=\"D\",A9=\"E\",A9=\"S\",A9=\"Mtf\",A9=\"Tf\",A9=\"Ng\"),UPPER(A9),IF(AND(A9>=1,A9<=4),VLOOKUP(A9+0.1,[1]grunnlag!$A$15:$B$45,2),\"FEIL\")))","v":""},{"$f":"IF(OR(ISBLANK(A9),ISBLANK(B9)),\"\",IF(C9=\"FEIL\",\"FEIL\",VLOOKUP(C9,[1]grunnlag!$A$4:$B$12,2)))","v":""},{"$f":"IF(OR(ISBLANK(A9),ISBLANK(B9)),\"\",IF(NOT(ISNUMBER(B9)),\"FEIL\",B9))","v":""},{"$f":"IF(OR(ISBLANK(A9),ISBLANK(B9)),\"\",IF(OR(C9=\"FEIL\",E9=\"FEIL\"),\"FEIL\",D9*E9))","v":""}]
[null,null,{"$f":"IF(OR(ISBLANK(A10),ISBLANK(B10)),\"\",IF(OR(A10=\"A\",A10=\"B\",A10=\"C\",A10=\"D\",A10=\"E\",A10=\"S\",A10=\"Mtf\",A10=\"Tf\",A10=\"Ng\"),UPPER(A10),IF(AND(A10>=1,A10<=4),VLOOKUP(A10+0.1,[1]grunnlag!$A$15:$B$45,2),\"FEIL\")))","v":""},{"$f":"IF(OR(ISBLANK(A10),ISBLANK(B10)),\"\",IF(C10=\"FEIL\",\"FEIL\",VLOOKUP(C10,[1]grunnlag!$A$4:$B$12,2)))","v":""},"",""]
[null,null,{"$f":"IF(OR(ISBLANK(A11),ISBLANK(B11)),\"\",IF(OR(A11=\"A\",A11=\"B\",A11=\"C\",A11=\"D\",A11=\"E\",A11=\"S\",A11=\"Mtf\",A11=\"Tf\",A11=\"Ng\"),UPPER(A11),IF(AND(A11>=1,A11<=4),VLOOKUP(A11+0.1,[1]grunnlag!$A$15:$B$45,2),\"FEIL\")))","v":""},{"$f":"IF(OR(ISBLANK(A11),ISBLANK(B11)),\"\",IF(C11=\"FEIL\",\"FEIL\",VLOOKUP(C11,[1]grunnlag!$A$4:$B$12,2)))","v":""},"",""]
[null,null,{"$f":"IF(OR(ISBLANK(A12),ISBLANK(B12)),\"\",IF(OR(A12=\"A\",A12=\"B\",A12=\"C\",A12=\"D\",A12=\"E\",A12=\"S\",A12=\"Mtf\",A12=\"Tf\",A12=\"Ng\"),UPPER(A12),IF(AND(A12>=1,A12<=4),VLOOKUP(A12+0.1,[1]grunnlag!$A$15:$B$45,2),\"FEIL\")))","v":""},{"$f":"IF(OR(ISBLANK(A12),ISBLANK(B12)),\"\",IF(C12=\"FEIL\",\"FEIL\",VLOOKUP(C12,[1]grunnlag!$A$4:$B$12,2)))","v":""},"",""]
[null,null,{"$f":"IF(OR(ISBLANK(A13),ISBLANK(B13)),\"\",IF(OR(A13=\"A\",A13=\"B\",A13=\"C\",A13=\"D\",A13=\"E\",A13=\"S\",A13=\"Mtf\",A13=\"Tf\",A13=\"Ng\"),UPPER(A13),IF(AND(A13>=1,A13<=4),VLOOKUP(A13+0.1,[1]grunnlag!$A$15:$B$45,2),\"FEIL\")))","v":""},{"$f":"IF(OR(ISBLANK(A13),ISBLANK(B13)),\"\",IF(C13=\"FEIL\",\"FEIL\",VLOOKUP(C13,[1]grunnlag!$A$4:$B$12,2)))","v":""},"",""]
[null,null,{"$f":"IF(OR(ISBLANK(A14),ISBLANK(B14)),\"\",IF(OR(A14=\"A\",A14=\"B\",A14=\"C\",A14=\"D\",A14=\"E\",A14=\"S\",A14=\"Mtf\",A14=\"Tf\",A14=\"Ng\"),UPPER(A14),IF(AND(A14>=1,A14<=4),VLOOKUP(A14+0.1,[1]grunnlag!$A$15:$B$45,2),\"FEIL\")))","v":""},{"$f":"IF(OR(ISBLANK(A14),ISBLANK(B14)),\"\",IF(C14=\"FEIL\",\"FEIL\",VLOOKUP(C14,[1]grunnlag!$A$4:$B$12,2)))","v":""},"",""]
[null,null,{"$f":"IF(OR(ISBLANK(A15),ISBLANK(B15)),\"\",IF(OR(A15=\"A\",A15=\"B\",A15=\"C\",A15=\"D\",A15=\"E\",A15=\"S\",A15=\"Mtf\",A15=\"Tf\",A15=\"Ng\"),UPPER(A15),IF(AND(A15>=1,A15<=4),VLOOKUP(A15+0.1,[1]grunnlag!$A$15:$B$45,2),\"FEIL\")))","v":""},{"$f":"IF(OR(ISBLANK(A15),ISBLANK(B15)),\"\",IF(C15=\"FEIL\",\"FEIL\",VLOOKUP(C15,[1]grunnlag!$A$4:$B$12,2)))","v":""},"",""]
[null,null,{"$f":"IF(OR(ISBLANK(A16),ISBLANK(B16)),\"\",IF(OR(A16=\"A\",A16=\"B\",A16=\"C\",A16=\"D\",A16=\"E\",A16=\"S\",A16=\"Mtf\",A16=\"Tf\",A16=\"Ng\"),UPPER(A16),IF(AND(A16>=1,A16<=4),VLOOKUP(A16+0.1,[1]grunnlag!$A$15:$B$45,2),\"FEIL\")))","v":""},{"$f":"IF(OR(ISBLANK(A16),ISBLANK(B16)),\"\",IF(C16=\"FEIL\",\"FEIL\",VLOOKUP(C16,[1]grunnlag!$A$4:$B$12,2)))","v":""},"",""]
[null,null,{"$f":"IF(OR(ISBLANK(A17),ISBLANK(B17)),\"\",IF(OR(A17=\"A\",A17=\"B\",A17=\"C\",A17=\"D\",A17=\"E\",A17=\"S\",A17=\"Mtf\",A17=\"Tf\",A17=\"Ng\"),UPPER(A17),IF(AND(A17>=1,A17<=4),VLOOKUP(A17+0.1,[1]grunnlag!$A$15:$B$45,2),\"FEIL\")))","v":""},{"$f":"IF(OR(ISBLANK(A17),ISBLANK(B17)),\"\",IF(C17=\"FEIL\",\"FEIL\",VLOOKUP(C17,[1]grunnlag!$A$4:$B$12,2)))","v":""},"",""]
[null,null,{"$f":"IF(OR(ISBLANK(A18),ISBLANK(B18)),\"\",IF(OR(A18=\"A\",A18=\"B\",A18=\"C\",A18=\"D\",A18=\"E\",A18=\"S\",A18=\"Mtf\",A18=\"Tf\",A18=\"Ng\"),UPPER(A18),IF(AND(A18>=1,A18<=4),VLOOKUP(A18+0.1,[1]grunnlag!$A$15:$B$45,2),\"FEIL\")))","v":""},{"$f":"IF(OR(ISBLANK(A18),ISBLANK(B18)),\"\",IF(C18=\"FEIL\",\"FEIL\",VLOOKUP(C18,[1]grunnlag!$A$4:$B$12,2)))","v":""},"",""]
[null,null,{"$f":"IF(OR(ISBLANK(A19),ISBLANK(B19)),\"\",IF(OR(A19=\"A\",A19=\"B\",A19=\"C\",A19=\"D\",A19=\"E\",A19=\"S\",A19=\"Mtf\",A19=\"Tf\",A19=\"Ng\"),UPPER(A19),IF(AND(A19>=1,A19<=4),VLOOKUP(A19+0.1,[1]grunnlag!$A$15:$B$45,2),\"FEIL\")))","v":""},{"$f":"IF(OR(ISBLANK(A19),ISBLANK(B19)),\"\",IF(C19=\"FEIL\",\"FEIL\",VLOOKUP(C19,[1]grunnlag!$A$4:$B$12,2)))","v":""},"",""]
[null,null,{"$f":"IF(OR(ISBLANK(A20),ISBLANK(B20)),\"\",IF(OR(A20=\"A\",A20=\"B\",A20=\"C\",A20=\"D\",A20=\"E\",A20=\"S\",A20=\"Mtf\",A20=\"Tf\",A20=\"Ng\"),UPPER(A20),IF(AND(A20>=1,A20<=4),VLOOKUP(A20+0.1,[1]grunnlag!$A$15:$B$45,2),\"FEIL\")))","v":""},{"$f":"IF(OR(ISBLANK(A20),ISBLANK(B20)),\"\",IF(C20=\"FEIL\",\"FEIL\",VLOOKUP(C20,[1]grunnlag!$A$4:$B$12,2)))","v":""},"",""]
[null,null,{"$f":"IF(OR(ISBLANK(A21),ISBLANK(B21)),\"\",IF(OR(A21=\"A\",A21=\"B\",A21=\"C\",A21=\"D\",A21=\"E\",A21=\"S\",A21=\"Mtf\",A21=\"Tf\",A21=\"Ng\"),UPPER(A21),IF(AND(A21>=1,A21<=4),VLOOKUP(A21+0.1,[1]grunnlag!$A$15:$B$45,2),\"FEIL\")))","v":""},{"$f":"IF(OR(ISBLANK(A21),ISBLANK(B21)),\"\",IF(C21=\"FEIL\",\"FEIL\",VLOOKUP(C21,[1]grunnlag!$A$4:$B$12,2)))","v":""},"",""]
[null,null,{"$f":"IF(OR(ISBLANK(A22),ISBLANK(B22)),\"\",IF(OR(A22=\"A\",A22=\"B\",A22=\"C\",A22=\"D\",A22=\"E\",A22=\"S\",A22=\"Mtf\",A22=\"Tf\",A22=\"Ng\"),UPPER(A22),IF(AND(A22>=1,A22<=4),VLOOKUP(A22+0.1,[1]grunnlag!$A$15:$B$45,2),\"FEIL\")))","v":""},{"$f":"IF(OR(ISBLANK(A22),ISBLANK(B22)),\"\",IF(C22=\"FEIL\",\"FEIL\",VLOOKUP(C22,[1]grunnlag!$A$4:$B$12,2)))","v":""},"",""]
[null,null,{"$f":"IF(OR(ISBLANK(A23),ISBLANK(B23)),\"\",IF(OR(A23=\"A\",A23=\"B\",A23=\"C\",A23=\"D\",A23=\"E\",A23=\"S\",A23=\"Mtf\",A23=\"Tf\",A23=\"Ng\"),UPPER(A23),IF(AND(A23>=1,A23<=4),VLOOKUP(A23+0.1,[1]grunnlag!$A$15:$B$45,2),\"FEIL\")))","v":""},{"$f":"IF(OR(ISBLANK(A23),ISBLANK(B23)),\"\",IF(C23=\"FEIL\",\"FEIL\",VLOOKUP(C23,[1]grunnlag!$A$4:$B$12,2)))","v":""},"",""]
[null,null,{"$f":"IF(OR(ISBLANK(A24),ISBLANK(B24)),\"\",IF(OR(A24=\"A\",A24=\"B\",A24=\"C\",A24=\"D\",A24=\"E\",A24=\"S\",A24=\"Mtf\",A24=\"Tf\",A24=\"Ng\"),UPPER(A24),IF(AND(A24>=1,A24<=4),VLOOKUP(A24+0.1,[1]grunnlag!$A$15:$B$45,2),\"FEIL\")))","v":""},{"$f":"IF(OR(ISBLANK(A24),ISBLANK(B24)),\"\",IF(C24=\"FEIL\",\"FEIL\",VLOOKUP(C24,[1]grunnlag!$A$4:$B$12,2)))","v":""},"",""]
[null,null,{"$f":"IF(OR(ISBLANK(A25),ISBLANK(B25)),\"\",IF(OR(A25=\"A\",A25=\"B\",A25=\"C\",A25=\"D\",A25=\"E\",A25=\"S\",A25=\"Mtf\",A25=\"Tf\",A25=\"Ng\"),UPPER(A25),IF(AND(A25>=1,A25<=4),VLOOKUP(A25+0.1,[1]grunnlag!$A$15:$B$45,2),\"FEIL\")))","v":""},{"$f":"IF(OR(ISBLANK(A25),ISBLANK(B25)),\"\",IF(C25=\"FEIL\",\"FEIL\",VLOOKUP(C25,[1]grunnlag!$A$4:$B$12,2)))","v":""},"",""]
[null,null,{"$f":"IF(OR(ISBLANK(A26),ISBLANK(B26)),\"\",IF(OR(A26=\"A\",A26=\"B\",A26=\"C\",A26=\"D\",A26=\"E\",A26=\"S\",A26=\"Mtf\",A26=\"Tf\",A26=\"Ng\"),UPPER(A26),IF(AND(A26>=1,A26<=4),VLOOKUP(A26+0.1,[1]grunnlag!$A$15:$B$45,2),\"FEIL\")))","v":""},{"$f":"IF(OR(ISBLANK(A26),ISBLANK(B26)),\"\",IF(C26=\"FEIL\",\"FEIL\",VLOOKUP(C26,[1]grunnlag!$A$4:$B$12,2)))","v":""},"",""]
[null,null,{"$f":"IF(OR(ISBLANK(A27),ISBLANK(B27)),\"\",IF(OR(A27=\"A\",A27=\"B\",A27=\"C\",A27=\"D\",A27=\"E\",A27=\"S\",A27=\"Mtf\",A27=\"Tf\",A27=\"Ng\"),UPPER(A27),IF(AND(A27>=1,A27<=4),VLOOKUP(A27+0.1,[1]grunnlag!$A$15:$B$45,2),\"FEIL\")))","v":""},{"$f":"IF(OR(ISBLANK(A27),ISBLANK(B27)),\"\",IF(C27=\"FEIL\",\"FEIL\",VLOOKUP(C27,[1]grunnlag!$A$4:$B$12,2)))","v":""},{"$f":"IF(OR(ISBLANK(A27),ISBLANK(B27)),\"\",IF(NOT(ISNUMBER(B27)),\"FEIL\",B27))","v":""},{"$f":"IF(OR(ISBLANK(A27),ISBLANK(B27)),\"\",IF(OR(C27=\"FEIL\",E27=\"FEIL\"),\"FEIL\",D27*E27))","v":""}]
[null,null,{"$f":"IF(OR(ISBLANK(A28),ISBLANK(B28)),\"\",IF(OR(A28=\"A\",A28=\"B\",A28=\"C\",A28=\"D\",A28=\"E\",A28=\"S\",A28=\"Mtf\",A28=\"Tf\",A28=\"Ng\"),UPPER(A28),IF(AND(A28>=1,A28<=4),VLOOKUP(A28+0.1,[1]grunnlag!$A$15:$B$45,2),\"FEIL\")))","v":""},{"$f":"IF(OR(ISBLANK(A28),ISBLANK(B28)),\"\",IF(C28=\"FEIL\",\"FEIL\",VLOOKUP(C28,[1]grunnlag!$A$4:$B$12,2)))","v":""},"",""]
[null,null,{"$f":"IF(OR(ISBLANK(A29),ISBLANK(B29)),\"\",IF(OR(A29=\"A\",A29=\"B\",A29=\"C\",A29=\"D\",A29=\"E\",A29=\"S\",A29=\"Mtf\",A29=\"Tf\",A29=\"Ng\"),UPPER(A29),IF(AND(A29>=1,A29<=4),VLOOKUP(A29+0.1,[1]grunnlag!$A$15:$B$45,2),\"FEIL\")))","v":""},{"$f":"IF(OR(ISBLANK(A29),ISBLANK(B29)),\"\",IF(C29=\"FEIL\",\"FEIL\",VLOOKUP(C29,[1]grunnlag!$A$4:$B$12,2)))","v":""},"",""]
[null,null,{"$f":"IF(OR(ISBLANK(A30),ISBLANK(B30)),\"\",IF(OR(A30=\"A\",A30=\"B\",A30=\"C\",A30=\"D\",A30=\"E\",A30=\"S\",A30=\"Mtf\",A30=\"Tf\",A30=\"Ng\"),UPPER(A30),IF(AND(A30>=1,A30<=4),VLOOKUP(A30+0.1,[1]grunnlag!$A$15:$B$45,2),\"FEIL\")))","v":""},{"$f":"IF(OR(ISBLANK(A30),ISBLANK(B30)),\"\",IF(C30=\"FEIL\",\"FEIL\",VLOOKUP(C30,[1]grunnlag!$A$4:$B$12,2)))","v":""},"",""]
[null,null,{"$f":"IF(OR(ISBLANK(A31),ISBLANK(B31)),\"\",IF(OR(A31=\"A\",A31=\"B\",A31=\"C\",A31=\"D\",A31=\"E\",A31=\"S\",A31=\"Mtf\",A31=\"Tf\",A31=\"Ng\"),UPPER(A31),IF(AND(A31>=1,A31<=4),VLOOKUP(A31+0.1,[1]grunnlag!$A$15:$B$45,2),\"FEIL\")))","v":""},{"$f":"IF(OR(ISBLANK(A31),ISBLANK(B31)),\"\",IF(C31=\"FEIL\",\"FEIL\",VLOOKUP(C31,[1]grunnlag!$A$4:$B$12,2)))","v":""},"",""]
[null,null,{"$f":"IF(OR(ISBLANK(A32),ISBLANK(B32)),\"\",IF(OR(A32=\"A\",A32=\"B\",A32=\"C\",A32=\"D\",A32=\"E\",A32=\"S\",A32=\"Mtf\",A32=\"Tf\",A32=\"Ng\"),UPPER(A32),IF(AND(A32>=1,A32<=4),VLOOKUP(A32+0.1,[1]grunnlag!$A$15:$B$45,2),\"FEIL\")))","v":""},{"$f":"IF(OR(ISBLANK(A32),ISBLANK(B32)),\"\",IF(C32=\"FEIL\",\"FEIL\",VLOOKUP(C32,[1]grunnlag!$A$4:$B$12,2)))","v":""},"",""]
[null,null,{"$f":"IF(OR(ISBLANK(A33),ISBLANK(B33)),\"\",IF(OR(A33=\"A\",A33=\"B\",A33=\"C\",A33=\"D\",A33=\"E\",A33=\"S\",A33=\"Mtf\",A33=\"Tf\",A33=\"Ng\"),UPPER(A33),IF(AND(A33>=1,A33<=4),VLOOKUP(A33+0.1,[1]grunnlag!$A$15:$B$45,2),\"FEIL\")))","v":""},{"$f":"IF(OR(ISBLANK(A33),ISBLANK(B33)),\"\",IF(C33=\"FEIL\",\"FEIL\",VLOOKUP(C33,[1]grunnlag!$A$4:$B$12,2)))","v":""},"",""]
[null,null,{"$f":"IF(OR(ISBLANK(A34),ISBLANK(B34)),\"\",IF(OR(A34=\"A\",A34=\"B\",A34=\"C\",A34=\"D\",A34=\"E\",A34=\"S\",A34=\"Mtf\",A34=\"Tf\",A34=\"Ng\"),UPPER(A34),IF(AND(A34>=1,A34<=4),VLOOKUP(A34+0.1,[1]grunnlag!$A$15:$B$45,2),\"FEIL\")))","v":""},{"$f":"IF(OR(ISBLANK(A34),ISBLANK(B34)),\"\",IF(C34=\"FEIL\",\"FEIL\",VLOOKUP(C34,[1]grunnlag!$A$4:$B$12,2)))","v":""},"",""]
[null,null,{"$f":"IF(OR(ISBLANK(A35),ISBLANK(B35)),\"\",IF(OR(A35=\"A\",A35=\"B\",A35=\"C\",A35=\"D\",A35=\"E\",A35=\"S\",A35=\"Mtf\",A35=\"Tf\",A35=\"Ng\"),UPPER(A35),IF(AND(A35>=1,A35<=4),VLOOKUP(A35+0.1,[1]grunnlag!$A$15:$B$45,2),\"FEIL\")))","v":""},{"$f":"IF(OR(ISBLANK(A35),ISBLANK(B35)),\"\",IF(C35=\"FEIL\",\"FEIL\",VLOOKUP(C35,[1]grunnlag!$A$4:$B$12,2)))","v":""},"",""]
[null,null,{"$f":"IF(OR(ISBLANK(A36),ISBLANK(B36)),\"\",IF(OR(A36=\"A\",A36=\"B\",A36=\"C\",A36=\"D\",A36=\"E\",A36=\"S\",A36=\"Mtf\",A36=\"Tf\",A36=\"Ng\"),UPPER(A36),IF(AND(A36>=1,A36<=4),VLOOKUP(A36+0.1,[1]grunnlag!$A$15:$B$45,2),\"FEIL\")))","v":""},{"$f":"IF(OR(ISBLANK(A36),ISBLANK(B36)),\"\",IF(C36=\"FEIL\",\"FEIL\",VLOOKUP(C36,[1]grunnlag!$A$4:$B$12,2)))","v":""},"",""]
[null,null,{"$f":"IF(OR(ISBLANK(A37),ISBLANK(B37)),\"\",IF(OR(A37=\"A\",A37=\"B\",A37=\"C\",A37=\"D\",A37=\"E\",A37=\"S\",A37=\"Mtf\",A37=\"Tf\",A37=\"Ng\"),UPPER(A37),IF(AND(A37>=1,A37<=4),VLOOKUP(A37+0.1,[1]grunnlag!$A$15:$B$45,2),\"FEIL\")))","v":""},{"$f":"IF(OR(ISBLANK(A37),ISBLANK(B37)),\"\",IF(C37=\"FEIL\",\"FEIL\",VLOOKUP(C37,[1]grunnlag!$A$4:$B$12,2)))","v":""},"",""]
[null,null,{"$f":"IF(OR(ISBLANK(A38),ISBLANK(B38)),\"\",IF(OR(A38=\"A\",A38=\"B\",A38=\"C\",A38=\"D\",A38=\"E\",A38=\"S\",A38=\"Mtf\",A38=\"Tf\",A38=\"Ng\"),UPPER(A38),IF(AND(A38>=1,A38<=4),VLOOKUP(A38+0.1,[1]grunnlag!$A$15:$B$45,2),\"FEIL\")))","v":""},{"$f":"IF(OR(ISBLANK(A38),ISBLANK(B38)),\"\",IF(C38=\"FEIL\",\"FEIL\",VLOOKUP(C38,[1]grunnlag!$A$4:$B$12,2)))","v":""},"",""]
[null,null,{"$f":"IF(OR(ISBLANK(A39),ISBLANK(B39)),\"\",IF(OR(A39=\"A\",A39=\"B\",A39=\"C\",A39=\"D\",A39=\"E\",A39=\"S\",A39=\"Mtf\",A39=\"Tf\",A39=\"Ng\"),UPPER(A39),IF(AND(A39>=1,A39<=4),VLOOKUP(A39+0.1,[1]grunnlag!$A$15:$B$45,2),\"FEIL\")))","v":""},{"$f":"IF(OR(ISBLANK(A39),ISBLANK(B39)),\"\",IF(C39=\"FEIL\",\"FEIL\",VLOOKUP(C39,[1]grunnlag!$A$4:$B$12,2)))","v":""},"",""]
[null,null,{"$f":"IF(OR(ISBLANK(A40),ISBLANK(B40)),\"\",IF(OR(A40=\"A\",A40=\"B\",A40=\"C\",A40=\"D\",A40=\"E\",A40=\"S\",A40=\"Mtf\",A40=\"Tf\",A40=\"Ng\"),UPPER(A40),IF(AND(A40>=1,A40<=4),VLOOKUP(A40+0.1,[1]grunnlag!$A$15:$B$45,2),\"FEIL\")))","v":""},{"$f":"IF(OR(ISBLANK(A40),ISBLANK(B40)),\"\",IF(C40=\"FEIL\",\"FEIL\",VLOOKUP(C40,[1]grunnlag!$A$4:$B$12,2)))","v":""},"",""]
[null,null,null,null,{"$f":"SUM(E8:E40)","v":0}]

{"sheet":"Ark2","index":1,"n_rows":0,"n_cols":0,"rows_kept":0,"cut":false,"hidden":false,"merged":[]}

{"sheet":"Ark3","index":2,"n_rows":0,"n_cols":0,"rows_kept":0,"cut":false,"hidden":false,"merged":[]}